BEGIN:VCALENDAR
VERSION:2.0
PRODID:-//Alhambra Golf - ECPv6.15.18//NONSGML v1.0//EN
CALSCALE:GREGORIAN
METHOD:PUBLISH
X-WR-CALNAME:Alhambra Golf
X-ORIGINAL-URL:https://www.alhambragolf.com
X-WR-CALDESC:Events for Alhambra Golf
REFRESH-INTERVAL;VALUE=DURATION:PT1H
X-Robots-Tag:noindex
X-PUBLISHED-TTL:PT1H
BEGIN:VTIMEZONE
TZID:UTC
BEGIN:STANDARD
TZOFFSETFROM:+0000
TZOFFSETTO:+0000
TZNAME:UTC
DTSTART:20250101T000000
END:STANDARD
END:VTIMEZONE
BEGIN:VEVENT
DTSTART;TZID=UTC:20260417T100000
DTEND;TZID=UTC:20260417T140000
DTSTAMP:20260423T031444
CREATED:20260404T014613Z
LAST-MODIFIED:20260404T031538Z
UID:10000013-1776420000-1776434400@www.alhambragolf.com
SUMMARY:SRIXON Demo Day
DESCRIPTION:Join us on April 17\, 2026\, from 10 AM to 2 PM at the Alhambra Golf Course driving range to demo Srixon’s newest clubs! Come take some swings\, test out the latest gear\, and see how it can elevate your game. Whether you’re dialing in your distance or just having fun\, this is a great chance to experience what’s new—don’t miss it!
URL:https://www.alhambragolf.com/event/srixon-demo-day/
END:VEVENT
BEGIN:VEVENT
DTSTART;TZID=UTC:20260401T080000
DTEND;TZID=UTC:20260409T170000
DTSTAMP:20260423T031444
CREATED:20260316T234819Z
LAST-MODIFIED:20260403T002021Z
UID:10000010-1775030400-1775754000@www.alhambragolf.com
SUMMARY:Pick A Winner: (Apr 1- 9) 
DESCRIPTION:
URL:https://www.alhambragolf.com/event/pick-a-winner-apr-1-9/
END:VEVENT
BEGIN:VEVENT
DTSTART;TZID=UTC:20260317T080000
DTEND;TZID=UTC:20260317T200000
DTSTAMP:20260423T031444
CREATED:20260210T032952Z
LAST-MODIFIED:20260319T231715Z
UID:10000005-1773734400-1773777600@www.alhambragolf.com
SUMMARY:ST. Patrick's Day
DESCRIPTION:March 17thShow your spirit!Wear Green\, Take a Selfie\, Post it and Tag us for a chance to win a free round of golf! \n\n\n\n  \n\n\n\n\n\n\n\n\n\n\n\n\n\n\n\n \n\n\n\n\n\n 
URL:https://www.alhambragolf.com/event/st-patricks-day/
ATTACH;FMTTYPE=image/png:https://www.alhambragolf.com/wp-content/uploads/sites/9641/2026/02/March-17th-St.-Patricks-Day.png
END:VEVENT
BEGIN:VEVENT
DTSTART;TZID=UTC:20260308T153000
DTEND;TZID=UTC:20260308T200000
DTSTAMP:20260423T031444
CREATED:20260210T033205Z
LAST-MODIFIED:20260210T033513Z
UID:10000006-1772983800-1773000000@www.alhambragolf.com
SUMMARY:Daylight Savings
DESCRIPTION:March 8thMore afternoon daylight means more golf. Enjoy 10%off your twilight round on Sunday\, March 8th*
URL:https://www.alhambragolf.com/event/daylight-savings/
ATTACH;FMTTYPE=image/png:https://www.alhambragolf.com/wp-content/uploads/sites/9641/2026/02/March-8th-Daylight-Savings.png
END:VEVENT
BEGIN:VEVENT
DTSTART;TZID=UTC:20260307T100000
DTEND;TZID=UTC:20260307T140000
DTSTAMP:20260423T031444
CREATED:20260224T205902Z
LAST-MODIFIED:20260224T205905Z
UID:10000008-1772877600-1772892000@www.alhambragolf.com
SUMMARY:XXIO
DESCRIPTION:
URL:https://www.alhambragolf.com/event/xxio/
END:VEVENT
BEGIN:VEVENT
DTSTART;TZID=UTC:20260306T100000
DTEND;TZID=UTC:20260306T140000
DTSTAMP:20260423T031444
CREATED:20260224T205832Z
LAST-MODIFIED:20260224T205836Z
UID:10000007-1772791200-1772805600@www.alhambragolf.com
SUMMARY:Cleveland/Srixon
DESCRIPTION:
URL:https://www.alhambragolf.com/event/cleveland-srixon/
END:VEVENT
BEGIN:VEVENT
DTSTART;TZID=UTC:20260216T080000
DTEND;TZID=UTC:20260216T170000
DTSTAMP:20260423T031444
CREATED:20260127T005123Z
LAST-MODIFIED:20260127T005127Z
UID:10000004-1771228800-1771261200@www.alhambragolf.com
SUMMARY:President's Day Sale
DESCRIPTION:
URL:https://www.alhambragolf.com/event/presidents-day-sale/
ATTACH;FMTTYPE=image/png:https://www.alhambragolf.com/wp-content/uploads/sites/9641/2026/01/February-16th-Presidents-Day.png
END:VEVENT
BEGIN:VEVENT
DTSTART;TZID=UTC:20260214T080000
DTEND;TZID=UTC:20260214T170000
DTSTAMP:20260423T031444
CREATED:20260127T005010Z
LAST-MODIFIED:20260127T005013Z
UID:10000003-1771056000-1771088400@www.alhambragolf.com
SUMMARY:Valentine's Day Special
DESCRIPTION:
URL:https://www.alhambragolf.com/event/valentines-day-special/
ATTACH;FMTTYPE=image/png:https://www.alhambragolf.com/wp-content/uploads/sites/9641/2026/01/February-14th-Valentines-Day-1.png
END:VEVENT
BEGIN:VEVENT
DTSTART;TZID=UTC:20260208T080000
DTEND;TZID=UTC:20260208T170000
DTSTAMP:20260423T031444
CREATED:20260127T004822Z
LAST-MODIFIED:20260127T004859Z
UID:10000002-1770537600-1770570000@www.alhambragolf.com
SUMMARY:Pick the Winner: Big Game
DESCRIPTION:
URL:https://www.alhambragolf.com/event/pick-the-winner-big-game/
ATTACH;FMTTYPE=image/png:https://www.alhambragolf.com/wp-content/uploads/sites/9641/2026/01/February-8th-Superbowl.png
END:VEVENT
BEGIN:VEVENT
DTSTART;TZID=UTC:20260202T080000
DTEND;TZID=UTC:20260202T170000
DTSTAMP:20260423T031444
CREATED:20260127T004519Z
LAST-MODIFIED:20260127T004525Z
UID:10000001-1770019200-1770051600@www.alhambragolf.com
SUMMARY:Groundhog Day Special
DESCRIPTION:
URL:https://www.alhambragolf.com/event/groundhog-day-special/
ATTACH;FMTTYPE=image/png:https://www.alhambragolf.com/wp-content/uploads/sites/9641/2026/01/February-2nd-Groundhog-Day.png
END:VEVENT
END:VCALENDAR