BEGIN:VCALENDAR
VERSION:2.0
PRODID:-//Alhambra Golf - ECPv6.15.18//NONSGML v1.0//EN
CALSCALE:GREGORIAN
METHOD:PUBLISH
X-WR-CALNAME:Alhambra Golf
X-ORIGINAL-URL:https://www.alhambragolf.com
X-WR-CALDESC:Events for Alhambra Golf
REFRESH-INTERVAL;VALUE=DURATION:PT1H
X-Robots-Tag:noindex
X-PUBLISHED-TTL:PT1H
BEGIN:VTIMEZONE
TZID:UTC
BEGIN:STANDARD
TZOFFSETFROM:+0000
TZOFFSETTO:+0000
TZNAME:UTC
DTSTART:20250101T000000
END:STANDARD
END:VTIMEZONE
BEGIN:VTIMEZONE
TZID:America/Los_Angeles
BEGIN:DAYLIGHT
TZOFFSETFROM:-0800
TZOFFSETTO:-0700
TZNAME:PDT
DTSTART:20250309T100000
END:DAYLIGHT
BEGIN:STANDARD
TZOFFSETFROM:-0700
TZOFFSETTO:-0800
TZNAME:PST
DTSTART:20251102T090000
END:STANDARD
BEGIN:DAYLIGHT
TZOFFSETFROM:-0800
TZOFFSETTO:-0700
TZNAME:PDT
DTSTART:20260308T100000
END:DAYLIGHT
BEGIN:STANDARD
TZOFFSETFROM:-0700
TZOFFSETTO:-0800
TZNAME:PST
DTSTART:20261101T090000
END:STANDARD
BEGIN:DAYLIGHT
TZOFFSETFROM:-0800
TZOFFSETTO:-0700
TZNAME:PDT
DTSTART:20270314T100000
END:DAYLIGHT
BEGIN:STANDARD
TZOFFSETFROM:-0700
TZOFFSETTO:-0800
TZNAME:PST
DTSTART:20271107T090000
END:STANDARD
END:VTIMEZONE
BEGIN:VEVENT
DTSTART;TZID=UTC:20260401T080000
DTEND;TZID=UTC:20260430T170000
DTSTAMP:20260423T012948
CREATED:20260316T234634Z
LAST-MODIFIED:20260316T234638Z
UID:10000009-1775030400-1777568400@www.alhambragolf.com
SUMMARY:Els for Autism
DESCRIPTION:
URL:https://www.alhambragolf.com/event/els-for-autism/
END:VEVENT
BEGIN:VEVENT
DTSTART;TZID=America/Los_Angeles:20260501T000000
DTEND;TZID=America/Los_Angeles:20260514T235959
DTSTAMP:20260423T012948
CREATED:20260422T205015Z
LAST-MODIFIED:20260422T205019Z
UID:10000015-1777593600-1778803199@www.alhambragolf.com
SUMMARY:Pick a Winner: PGA Championship
DESCRIPTION:
URL:https://www.alhambragolf.com/event/pick-a-winner-pga-championship/
ATTACH;FMTTYPE=image/png:https://www.alhambragolf.com/wp-content/uploads/sites/9641/2026/04/May-15-to-18-PGA-Championship.png
END:VEVENT
BEGIN:VEVENT
DTSTART;TZID=America/Los_Angeles:20260501T000000
DTEND;TZID=America/Los_Angeles:20260531T235959
DTSTAMP:20260423T012948
CREATED:20260422T204851Z
LAST-MODIFIED:20260422T204855Z
UID:10000014-1777593600-1780271999@www.alhambragolf.com
SUMMARY:Player Development Month: LaunchZone Closest to the Pin Contest
DESCRIPTION:
URL:https://www.alhambragolf.com/event/player-development-month-launchzone-closest-to-the-pin-contest/
ATTACH;FMTTYPE=image/png:https://www.alhambragolf.com/wp-content/uploads/sites/9641/2026/04/May-Player-Development-Month.png
END:VEVENT
BEGIN:VEVENT
DTSTART;TZID=America/Los_Angeles:20260509T070000
DTEND;TZID=America/Los_Angeles:20260509T070000
DTSTAMP:20260423T012948
CREATED:20260422T205157Z
LAST-MODIFIED:20260422T205531Z
UID:10000016-1778310000-1778310000@www.alhambragolf.com
SUMMARY:National Golf Day- 10% Off Polo Special
DESCRIPTION:
URL:https://www.alhambragolf.com/event/national-golf-day-10-off-polo-special/
ATTACH;FMTTYPE=image/png:https://www.alhambragolf.com/wp-content/uploads/sites/9641/2026/04/May-9th-National-Golf-Day.png
END:VEVENT
BEGIN:VEVENT
DTSTART;TZID=America/Los_Angeles:20260510T070000
DTEND;TZID=America/Los_Angeles:20260510T070000
DTSTAMP:20260423T012948
CREATED:20260422T205526Z
LAST-MODIFIED:20260422T205530Z
UID:10000017-1778396400-1778396400@www.alhambragolf.com
SUMMARY:Mother's Day: Mom's Receive a Free Cart Fee
DESCRIPTION:
URL:https://www.alhambragolf.com/event/mothers-day-moms-receive-a-free-cart-fee/
ATTACH;FMTTYPE=image/png:https://www.alhambragolf.com/wp-content/uploads/sites/9641/2026/04/May-10th-Mothers-day.png
END:VEVENT
BEGIN:VEVENT
DTSTART;TZID=America/Los_Angeles:20260525T070000
DTEND;TZID=America/Los_Angeles:20260525T070000
DTSTAMP:20260423T012948
CREATED:20260422T205612Z
LAST-MODIFIED:20260422T205616Z
UID:10000018-1779692400-1779692400@www.alhambragolf.com
SUMMARY:Memorial Day: Patriot Golf Day
DESCRIPTION:
URL:https://www.alhambragolf.com/event/memorial-day-patriot-golf-day/
ATTACH;FMTTYPE=image/png:https://www.alhambragolf.com/wp-content/uploads/sites/9641/2026/04/May-25th-Memorial-Day.png
END:VEVENT
END:VCALENDAR